BEGIN:VCALENDAR
VERSION:2.0
PRODID:icalendar-ruby
CALSCALE:GREGORIAN
METHOD:PUBLISH
BEGIN:VEVENT
DTSTAMP:20260423T013402Z
UID:7-444095@nohofumc.org
DTSTART:20260918T020000Z
DTEND:20260918T033000Z
CLASS:PUBLIC
CREATED:20260422T172023
DESCRIPTION:
LAST-MODIFIED:20260422T172023
LOCATION:Main Sanctuary
SUMMARY:Choir Practice
URL;VALUE=URI:https://www.nohofumc.org/events/choir-practice/2026-09-17
ATTACH;FILENAME=Sanctuary-standard.jpg;FMTTYPE=image/jpeg:https://dq5pwpg1q
 8ru0.cloudfront.net/2025/10/03/19/13/34/492bf3ab-d6fc-48ad-a7c5-024ff9fad0
 36/Sanctuary-standard.jpg
END:VEVENT
END:VCALENDAR
