BEGIN:VCALENDAR
VERSION:2.0
PRODID:icalendar-ruby
CALSCALE:GREGORIAN
METHOD:PUBLISH
BEGIN:VEVENT
DTSTAMP:20260422T172504Z
UID:7-443136@nohofumc.org
DTSTART:20260814T020000Z
DTEND:20260814T033000Z
CLASS:PUBLIC
CREATED:20260422T083857
DESCRIPTION:
LAST-MODIFIED:20260422T083857
LOCATION:Main Sanctuary
SUMMARY:Choir Practice
URL;VALUE=URI:https://www.nohofumc.org/events/choir-practice/2026-08-13
ATTACH;FILENAME=Sanctuary-standard.jpg;FMTTYPE=image/jpeg:https://dq5pwpg1q
 8ru0.cloudfront.net/2025/10/03/19/13/34/492bf3ab-d6fc-48ad-a7c5-024ff9fad0
 36/Sanctuary-standard.jpg
END:VEVENT
END:VCALENDAR
